BEGIN:VCALENDAR
VERSION:2.0
PRODID:-//ChamberMaster//Event Calendar 2.0//EN
METHOD:PUBLISH
X-PUBLISHED-TTL:P3D
REFRESH-INTERVAL:P3D
CALSCALE:GREGORIAN
BEGIN:VEVENT
DTSTART:20210506T153000Z
DTEND:20210506T163000Z
X-MICROSOFT-CDO-ALLDAYEVENT:FALSE
SUMMARY:WEBINAR: 10 Principles of Long-Term Investing Resilience Workshop
DESCRIPTION:When volatility strikes\, do you take your money and run? Unfortunately\, this might do more harm than good. Join us for a one hour workshop that explores time tested ways to tackle volatility. \n\n \n\nPresenter\n\nTimmy O'Connell\, MFS Investment Management\n\nHosted by Edward Jones - Financial Advisors:\n\nDanielle Corley\n\nYesi Dalton\n\nValerie LaTour\n\n\n\nTo join us for this exciting presentation\, please register through the link below:\n\nhttps://edwardjones.zoom.us/webinar/register/WN_5S5OOwS8S3KPPTVYNoXVbA\n\n \n\nAfter registering\, a confirmation email will arrive containing information for joining the webinar.\n\nPlease feel free to share this link with others.
X-ALT-DESC;FMTTYPE=text/html:<p style="text-align: center\;"><em><span style="font-family:open sans\,helveticaneue\,helvetica neue\,helvetica-neue\,helvetica\,arial\,sans-serif\; font-size:15px"><span style="font-size:16px">When volatility strikes\, do you take your money and run? Unfortunately\, this might do more harm than good. Join us for a one hour workshop that explores time tested ways to tackle volatility.&nbsp\;</span></span></em></p>\n\n<div style="text-align:center">&nbsp\;</div>\n\n<p style="text-align: center\;"><span style="font-size:16px"><u>Presenter</u><br />\nTimmy O&#39\;Connell\, MFS Investment Management</span></p>\n\n<p style="text-align: center\;"><span style="font-size:16px"><u>Hosted by Edward Jones - Financial Advisors:</u><br />\nDanielle Corley<br />\nYesi Dalton<br />\nValerie LaTour</span></p>\n\n<p style="text-align:center"><br />\n<span style="font-size:14px"><strong><span style="font-size:16px">To join us for this exciting presentation\, please register through the link below:</span></strong><br />\n<span style="font-size:16px"><a href="https://edwardjones.zoom.us/webinar/register/WN_5S5OOwS8S3KPPTVYNoXVbA">https://edwardjones.zoom.us/webinar/register/WN_5S5OOwS8S3KPPTVYNoXVbA</a></span></span></p>\n\n<div style="margin-left:40px\; text-align:center">&nbsp\;</div>\n\n<div style="text-align:center"><span style="font-size:16px">After registering\, a confirmation email will arrive containing information for joining the webinar.<br />\nPlease feel free to share this link with others.</span><br />\n<br />\n<br />\n&nbsp\;</div>\n\n<div style="margin-left:40px"><br />\n&nbsp\;</div>\n
LOCATION:This workshop will be hosted via Zoom. Please register using the link below: https://edwardjones.zoom.us/webinar/register/WN_5S5OOwS8S3KPPTVYNoXVbA After registering\, a confirmation e-mail will arrive containing the Zoom information.
UID:e.1304.20685
SEQUENCE:3
DTSTAMP:20260423T175346Z
URL:https://business.eschamber.com/events/details/10-principles-of-long-term-investing-resilience-workshop-20685
END:VEVENT

END:VCALENDAR
