BEGIN:VCALENDAR
VERSION:2.0
PRODID:-//ChamberMaster//Event Calendar 2.0//EN
METHOD:PUBLISH
X-PUBLISHED-TTL:P3D
REFRESH-INTERVAL:P3D
CALSCALE:GREGORIAN
BEGIN:VEVENT
DTSTART:20191027T010000Z
DTEND:20191027T040000Z
X-MICROSOFT-CDO-ALLDAYEVENT:FALSE
SUMMARY:10th Annual Turkey Trot
DESCRIPTION:The 10th Annual Prodisee Pantry Turkey Trot runs through Old Towne Daphne with a certified 5K and 1-mile Fun Run/Walk. Proceeds will benefit Prodisee Pantry and provides funding for their Thanksgiving project. Each registration equals a turkey! 5K Race starts at 8:00 a.m. and the 1-mile Fun Run/Walk starts at 9:00 a.m.
X-ALT-DESC;FMTTYPE=text/html:The 10th Annual Prodisee Pantry Turkey Trot runs through Old Towne Daphne with a certified 5K and 1-mile Fun Run/Walk. Proceeds will benefit Prodisee Pantry and provides funding for their Thanksgiving project. Each registration equals a turkey! 5K Race starts at 8:00 a.m. and the 1-mile Fun Run/Walk starts at 9:00 a.m.
LOCATION:City Hall\, Daphne\, AL
UID:e.1304.12907
SEQUENCE:3
DTSTAMP:20260419T154933Z
URL:https://business.eschamber.com/events/details/10th-annual-turkey-trot-12907
END:VEVENT

END:VCALENDAR
