BEGIN:VCALENDAR
VERSION:2.0
PRODID:-//ChamberMaster//Event Calendar 2.0//EN
METHOD:PUBLISH
X-PUBLISHED-TTL:P3D
REFRESH-INTERVAL:P3D
CALSCALE:GREGORIAN
BEGIN:VEVENT
DTSTART;VALUE=DATE:20200917
DTEND;VALUE=DATE:20200921
TRANSP:TRANSPARENT
X-MICROSOFT-CDO-ALLDAYEVENT:TRUE
SUMMARY:13th Annual GO Run - Virtual
DESCRIPTION:It's the 13th year for the USA Health Mitchell Cancer Institute GO Run presented by the Catranis Family Charitable Foundation\, and we are going virtual! That means you have the freedom to run wherever you'd like\, whether it's on a treadmill\, indoor track\, or the great outdoors. Team Up! It is no secret that our beloved teams are what make the GO Run so special. Every year\, numerous teams are formed in honor of loved ones\, in support of those going through treatment\, and those running on behalf of their company. We love to see you show this support through matching shirts or costumes. Even though this is a virtual event this year\, we hope you will still participate with a team. Each team will have the ability to post their fundraising page to social media to garner support from your own networks. Prizes will be awarded this year to the largest team\, highest fundraising team\, best social networking team\, and most creative team costume. We can't wait to see all of you engaging through social media. Packet Pick-Up: Tuesday\, Sept. 15\, 2020\, from 10 a.m. - 6 p.m. at University of South Alabama\, Office of Development\, 650 Clinic Drive\, TRP III Suite 1500\, Mobile\, AL 36688 To pick up your packet on Sept. 15\, please register by midnight on Aug. 31. Those who register in the month of September automatically will have their packet shipped to the address given during registration. For those who prefer to have their packet shipped\, there is an option to do so during registration. We look forward to seeing your race day photos with your GO Run shirts!
X-ALT-DESC;FMTTYPE=text/html:It&#39\;s the 13th year for the USA Health Mitchell Cancer Institute GO Run presented by the Catranis Family Charitable Foundation\, and we are going virtual! That means you have the freedom to run wherever you&#39\;d like\, whether it&#39\;s on a treadmill\, indoor track\, or the great outdoors. Team Up! It is no secret that our beloved teams are what make the GO Run so special. Every year\, numerous teams are formed in honor of loved ones\, in support of those going through treatment\, and those running on behalf of their company. We love to see you show this support through matching shirts or costumes. Even though this is a virtual event this year\, we hope you will still participate with a team. Each team will have the ability to post their fundraising page to social media to garner support from your own networks. Prizes will be awarded this year to the largest team\, highest fundraising team\, best social networking team\, and most creative team costume. We can&#39\;t wait to see all of you engaging through social media. Packet Pick-Up: Tuesday\, Sept. 15\, 2020\, from 10 a.m. - 6 p.m. at University of South Alabama\, Office of Development\, 650 Clinic Drive\, TRP III Suite 1500\, Mobile\, AL 36688 To pick up your packet on Sept. 15\, please register by midnight on Aug. 31. Those who register in the month of September automatically will have their packet shipped to the address given during registration. For those who prefer to have their packet shipped\, there is an option to do so during registration. We look forward to seeing your race day photos with your GO Run shirts!
LOCATION:Wherever you want to walk or run!
UID:e.1304.14269
SEQUENCE:3
DTSTAMP:20260424T070307Z
URL:https://business.eschamber.com/events/details/13th-annual-go-run-virtual-14269
END:VEVENT

END:VCALENDAR
