BEGIN:VCALENDAR
VERSION:2.0
PRODID:-//ChamberMaster//Event Calendar 2.0//EN
METHOD:PUBLISH
X-PUBLISHED-TTL:P3D
REFRESH-INTERVAL:P3D
CALSCALE:GREGORIAN
BEGIN:VEVENT
DTSTART:20200911T160000Z
DTEND:20200911T210000Z
X-MICROSOFT-CDO-ALLDAYEVENT:FALSE
SUMMARY:13th Annual Never Forget Lunch & Blood Drive
DESCRIPTION:The Original Oyster House restaurants will honor Mobile and Baldwin County law enforcement\, firefighters\, paramedics and sheriff officers by offering a free "Never Forget" Lunch at either the Gulf Shores or Mobile Causeway location on Friday\, Sept. 11\, 2020 from 11 am to 4 pm. The 13th Annual Never Forget Lunch was established by the Original Oyster House restaurants in honor of the 9/11 First Responders who risked their lives to save\, protect and serve and in recognition of all first responders for their service.\n\n\n\nIn memory of victims of 9/11\, LifeSouth Community Blood Centers\, a 501(c) 3 non-profit community blood supplier\, will also be on hand at the Mobile Causeway location for blood donations. They will also screen all eligible donors for COVID-19 antibodies. All blood donations collected will be distributed to local hospitals. Local attractions will also be onsite to honor our first responders and pass out free or discounted tickets. iHeart Media will support the event through public service announcements
X-ALT-DESC;FMTTYPE=text/html:The Original Oyster House restaurants will honor Mobile and Baldwin County law enforcement\, firefighters\, paramedics and sheriff officers by offering a free &ldquo\;Never Forget&rdquo\; Lunch at either the Gulf Shores or Mobile Causeway location on Friday\, Sept. 11\, 2020 from 11 am to 4 pm. The 13th Annual Never Forget Lunch was established by the Original Oyster House restaurants in honor of the 9/11 First Responders who risked their lives to save\, protect and serve and in recognition of all first responders for their service.<br />\n<br />\nIn memory of victims of 9/11\, LifeSouth Community Blood Centers\, a 501(c) 3 non-profit community blood supplier\, will also be on hand at the Mobile Causeway location for blood donations. They will also screen all eligible donors for COVID-19 antibodies. All blood donations collected will be distributed to local hospitals. Local attractions will also be onsite to honor our first responders and pass out free or discounted tickets. iHeart Media will support the event through public service announcements
LOCATION:Original Oyster House 3733 Battleship Pkwy Spanish Fort\, AL 36527
UID:e.1304.14318
SEQUENCE:3
DTSTAMP:20260424T070536Z
URL:https://business.eschamber.com/events/details/13th-annual-never-forget-lunch-blood-drive-14318
END:VEVENT

END:VCALENDAR
