BEGIN:VCALENDAR
VERSION:2.0
PRODID:-//ChamberMaster//Event Calendar 2.0//EN
METHOD:PUBLISH
X-PUBLISHED-TTL:P3D
REFRESH-INTERVAL:P3D
CALSCALE:GREGORIAN
BEGIN:VEVENT
DTSTART:20191126T143000Z
DTEND:20191126T160000Z
X-MICROSOFT-CDO-ALLDAYEVENT:FALSE
SUMMARY:15th Annual Day of Thanks Breakfast
DESCRIPTION:Baldwin County United is hosting its 15th Annual Day of Thanks Breakfast. This is to acknowledge and reflect on the great achievements\, blessings and growing prosperity of Baldwin County. Guest Speaker: Sheriff Hoss Mack Focus will be the impact and influence of Baldwin County's seafood industry and Billy Parks of Billy's Seafood in Bon Secour!
X-ALT-DESC;FMTTYPE=text/html:Baldwin County United is hosting its 15th Annual Day of Thanks Breakfast. This is to acknowledge and reflect on the great achievements\, blessings and growing prosperity of Baldwin County. Guest Speaker: Sheriff Hoss Mack Focus will be the impact and influence of Baldwin County&#39\;s seafood industry and Billy Parks of Billy&#39\;s Seafood in Bon Secour!
LOCATION:Baldwin County Central Annex\, 22251 Palmer Street\, Robertsdale\, AL
UID:e.1304.13146
SEQUENCE:3
DTSTAMP:20260419T142849Z
URL:https://business.eschamber.com/events/details/15th-annual-day-of-thanks-breakfast-13146
END:VEVENT

END:VCALENDAR
