BEGIN:VCALENDAR
VERSION:2.0
PRODID:-//ChamberMaster//Event Calendar 2.0//EN
METHOD:PUBLISH
X-PUBLISHED-TTL:P3D
REFRESH-INTERVAL:P3D
CALSCALE:GREGORIAN
BEGIN:VEVENT
DTSTART:20230809T160000Z
DTEND:20230809T180000Z
X-MICROSOFT-CDO-ALLDAYEVENT:FALSE
SUMMARY:17th Annual Freedom Luncheon
DESCRIPTION:Annual fundraiser for The Shoulder. Funds raised go directly to provide treatment services for individuals who are struggling with addiction to alcohol and drugs.
X-ALT-DESC;FMTTYPE=text/html:Annual fundraiser for The Shoulder. Funds raised go directly to provide treatment services for individuals who are struggling with addiction to alcohol and drugs.
LOCATION:Daphne Civic Center 2603 US-98 Daphne\, AL 36526
UID:e.1304.27532
SEQUENCE:3
DTSTAMP:20260420T020049Z
URL:https://business.eschamber.com/events/details/17th-annual-freedom-luncheon-27532
END:VEVENT

END:VCALENDAR
