BEGIN:VCALENDAR
VERSION:2.0
PRODID:-//ChamberMaster//Event Calendar 2.0//EN
METHOD:PUBLISH
X-PUBLISHED-TTL:P3D
REFRESH-INTERVAL:P3D
CALSCALE:GREGORIAN
BEGIN:VEVENT
DTSTART:20210502T170000Z
DTEND:20210502T210000Z
X-MICROSOFT-CDO-ALLDAYEVENT:FALSE
SUMMARY:1st Sunday Outdoor Market at 5 Rivers
DESCRIPTION:Local arts & crafts\, farmers' market\, and outdoor-themed items from the center's Cypress Gift Shop. Glass Blowing Demonstration by Freddie Blanche of Muffin Jaw Glass. The Chew Chew Food Truck menu with specialty sandwiches.  Noon-4pm. Free Admission.
X-ALT-DESC;FMTTYPE=text/html:Local arts &amp\; crafts\, farmers&#39\; market\, and outdoor-themed items from the center&rsquo\;s Cypress Gift Shop. Glass Blowing Demonstration by Freddie Blanche of Muffin Jaw Glass. The Chew Chew Food Truck menu with specialty sandwiches.&nbsp\; Noon-4pm. Free Admission.
LOCATION:5 Rivers Delta Resource Center On the Causeway Spanish Fort
UID:e.1304.20614
SEQUENCE:3
DTSTAMP:20260423T175713Z
URL:https://business.eschamber.com/events/details/1st-sunday-outdoor-market-at-5-rivers-05-02-2021-20614
END:VEVENT

END:VCALENDAR
