BEGIN:VCALENDAR
VERSION:2.0
PRODID:-//ChamberMaster//Event Calendar 2.0//EN
METHOD:PUBLISH
X-PUBLISHED-TTL:P3D
REFRESH-INTERVAL:P3D
CALSCALE:GREGORIAN
BEGIN:VEVENT
DTSTART:20191006T170000Z
DTEND:20191006T210000Z
X-MICROSOFT-CDO-ALLDAYEVENT:FALSE
SUMMARY:1st Sunday Outdoor Market at 5 Rivers
DESCRIPTION:Local\, handmade arts & crafts\, and farmer's market. Special Guest Chef Will's Farm Food Truck will be parked at the raised garden outside the Cypress Welcome Center & Gift Shop. Meet a swamp critter at Animal Ambassador at 2 pm in the Tensaw Theatre.
X-ALT-DESC;FMTTYPE=text/html:Local\, handmade arts &amp\; crafts\, and farmer&#39\;s market. Special Guest Chef Will&#39\;s Farm Food Truck will be parked at the raised garden outside the Cypress Welcome Center &amp\; Gift Shop. Meet a swamp critter at Animal Ambassador at 2 pm in the Tensaw Theatre.
LOCATION:5 Rivers Delta Resource Center 5 Rivers Boulevard\, Spanish Fort On the Causeway
UID:e.1304.13006
SEQUENCE:3
DTSTAMP:20260419T155456Z
URL:https://business.eschamber.com/events/details/1st-sunday-outdoor-market-at-5-rivers-10-06-2019-13006
END:VEVENT

END:VCALENDAR
