BEGIN:VCALENDAR
VERSION:2.0
PRODID:-//ChamberMaster//Event Calendar 2.0//EN
METHOD:PUBLISH
X-PUBLISHED-TTL:P3D
REFRESH-INTERVAL:P3D
CALSCALE:GREGORIAN
BEGIN:VEVENT
DTSTART:20191103T180000Z
DTEND:20191103T220000Z
X-MICROSOFT-CDO-ALLDAYEVENT:FALSE
SUMMARY:1st Sunday Outdoor Market at 5 Rivers
DESCRIPTION:Local arts\, crafts\, and farmer's market. Green & Grain food truck. Meet a delta critter up close at Animal Ambassador\, 2:00 p.m.
X-ALT-DESC;FMTTYPE=text/html:Local arts\, crafts\, and farmer&#39\;s market. Green &amp\; Grain food truck. Meet a delta critter up close at Animal Ambassador\, 2:00 p.m.
LOCATION:5 Rivers Delta Resource Center Cypress Welcome Center & Gift Shop 5 Rivers Blvd. on the causeway
UID:e.1304.13058
SEQUENCE:3
DTSTAMP:20260419T161115Z
URL:https://business.eschamber.com/events/details/1st-sunday-outdoor-market-at-5-rivers-11-03-2019-13058
END:VEVENT

END:VCALENDAR
