BEGIN:VCALENDAR
VERSION:2.0
PRODID:-//ChamberMaster//Event Calendar 2.0//EN
METHOD:PUBLISH
X-PUBLISHED-TTL:P3D
REFRESH-INTERVAL:P3D
CALSCALE:GREGORIAN
BEGIN:VEVENT
DTSTART:20210527T133000Z
DTEND:20210527T230000Z
X-MICROSOFT-CDO-ALLDAYEVENT:FALSE
SUMMARY:2021 Hope Cup Golf Tournament
DESCRIPTION:The annual Hope Cup Golf Tournament will be held on Thursday\, May 27\, 2021\, at the Country Club of Mobile. Presented by Springhill Toyota\, the event's proceeds will benefit the Melanoma and Skin Cancer Endowment at the USA Health Mitchell Cancer Institute. Registration will begin at 8:30 a.m.\, with shotgun start at 10 a.m. The tournament is a four-person scramble\, and will include putting contests\, a survivor hole and prizes on every hole. An awards ceremony will be held after the tournament. Those interested in contributing can sponsor a hole\, purchase a hat or register a four-person team to participate in the tournament. Additional information and a link to register for the tournament can be found on USA Health's website.
X-ALT-DESC;FMTTYPE=text/html:The annual Hope Cup Golf Tournament will be held on Thursday\, May 27\, 2021\, at the Country Club of Mobile. Presented by Springhill Toyota\, the event&rsquo\;s proceeds will benefit the Melanoma and Skin Cancer Endowment at the USA Health Mitchell Cancer Institute. Registration will begin at 8:30 a.m.\, with shotgun start at 10 a.m. The tournament is a four-person scramble\, and will include putting contests\, a survivor hole and prizes on every hole. An awards ceremony will be held after the tournament. Those interested in contributing can sponsor a hole\, purchase a hat or register a four-person team to participate in the tournament. Additional information and a link to register for the tournament can be found on USA Health&rsquo\;s website.
LOCATION:Country Club of Mobile\, 4101 Wimbledon Dr W\, Mobile\, AL 36608
UID:e.1304.20599
SEQUENCE:3
DTSTAMP:20260423T191710Z
URL:https://business.eschamber.com/events/details/2021-hope-cup-golf-tournament-20599
END:VEVENT

END:VCALENDAR
