BEGIN:VCALENDAR
VERSION:2.0
PRODID:-//ChamberMaster//Event Calendar 2.0//EN
METHOD:PUBLISH
X-PUBLISHED-TTL:P3D
REFRESH-INTERVAL:P3D
CALSCALE:GREGORIAN
BEGIN:VEVENT
DTSTART:20210325T130000Z
DTEND:20210325T220000Z
X-MICROSOFT-CDO-ALLDAYEVENT:FALSE
SUMMARY:2021 Spring into Action Blood Drive
DESCRIPTION:Baldwin EMC and LifeSouth Community Blood Centers are hosting the 2021 Spring Into Action Blood Drive at the Baldwin EMC Headquarters on Hwy 59 in Summerdale.
X-ALT-DESC;FMTTYPE=text/html:Baldwin EMC and LifeSouth Community Blood Centers are hosting the 2021 Spring Into Action Blood Drive at the Baldwin EMC Headquarters on Hwy 59 in Summerdale.
LOCATION:Baldwin EMC Headquarters\, Hwy 59\, Summerdale\, AL
UID:e.1304.20465
SEQUENCE:3
DTSTAMP:20260423T204424Z
URL:https://business.eschamber.com/events/details/2021-spring-into-action-blood-drive-20465
END:VEVENT

END:VCALENDAR
