BEGIN:VCALENDAR
VERSION:2.0
PRODID:-//ChamberMaster//Event Calendar 2.0//EN
METHOD:PUBLISH
X-PUBLISHED-TTL:P3D
REFRESH-INTERVAL:P3D
CALSCALE:GREGORIAN
BEGIN:VEVENT
DTSTART:20230201T230000Z
DTEND:20230202T010000Z
X-MICROSOFT-CDO-ALLDAYEVENT:FALSE
SUMMARY:2023 Annual Celebration
DESCRIPTION:Join us for our annual Chamber celebration at the Grand Hotel Golf Resort and Spa!\n\nWednesday\, Feb 1\, 2023\n\n5:00 PM - 7:00 PM
X-ALT-DESC;FMTTYPE=text/html:Join us for our annual Chamber celebration at the Grand Hotel Golf Resort and Spa!<br />\nWednesday\, Feb 1\, 2023<br />\n5:00 PM - 7:00 PM
LOCATION:The Grand Hotel Golf Resort & Spa\, Autograph Collection One Grand Blvd\, Point Clear\, AL 36564
UID:e.1304.26605
SEQUENCE:3
DTSTAMP:20260421T182816Z
URL:https://business.eschamber.com/events/details/2023-annual-celebration-26605
END:VEVENT

END:VCALENDAR
