BEGIN:VCALENDAR
VERSION:2.0
PRODID:-//ChamberMaster//Event Calendar 2.0//EN
METHOD:PUBLISH
X-PUBLISHED-TTL:P3D
REFRESH-INTERVAL:P3D
CALSCALE:GREGORIAN
BEGIN:VEVENT
DTSTART:20230208T150000Z
DTEND:20230208T210000Z
X-MICROSOFT-CDO-ALLDAYEVENT:FALSE
SUMMARY:2023 Baldwin Connect Career Expo
DESCRIPTION:Baldwin Connect Career Expo\n\nFebruary 7 & 8\, 2023\n\nRobertsdale Coliseum\n\n19477 Fairground Rd.\, Robertsdale\, AL 36567\n\n \n\nThe Baldwin Connect Career Expo will be February 7th & 8th at the Robertsdale Coliseum in Robertsdale\, AL. \n\n\n\nStudents attending the expo will have resumes and/or can fill out applications for summer internships and after school jobs. \n\n\n\nGeneral public is encouraged to bring resume for straight-to-work opportunities. \n\n\n\nFebruary 7 & 8\, 2023\n\n9AM - 3PM \n\n11th & 12th Graders staggered in intervals\n\nOpen to the Public Each Day\n\nVendor Application: \n\nhttps://business.eschamber.com/news/details/baldwin-connect-career-expo-2023
X-ALT-DESC;FMTTYPE=text/html:<p style="font-size: 16px\; box-sizing: border-box\; margin: 0px 0px 1rem\; caret-color: rgb(68\, 68\, 68)\; color: rgb(68\, 68\, 68)\; font-family: Khmer\, sans-serif\;"><span style="box-sizing: border-box\; text-align: center\;">Baldwin Connect&nbsp\;Career Expo</span><br style="box-sizing: border-box\; text-align: center\;" />\n<em style="box-sizing: border-box\; text-align: center\;">February 7 &amp\; 8\, 2023<br style="box-sizing: border-box\;" />\nRobertsdale Coliseum<br style="box-sizing: border-box\;" />\n19477 Fairground Rd.\, Robertsdale\, AL 36567</em><br style="box-sizing: border-box\;" />\n&nbsp\;</p>\n\n<p style="font-size: 16px\; box-sizing: border-box\; margin: 0px 0px 1rem\; outline: 0px\; caret-color: rgb(68\, 68\, 68)\; color: rgb(68\, 68\, 68)\; font-family: Khmer\, sans-serif\;">The Baldwin Connect Career Expo will be February 7th &amp\; 8th&nbsp\;at the Robertsdale Coliseum in Robertsdale\, AL.&nbsp\;<br style="box-sizing: border-box\;" />\n<br style="box-sizing: border-box\;" />\nStudents attending the expo will have resumes and/or can fill out applications for summer internships and after school jobs.&nbsp\;<br style="box-sizing: border-box\;" />\n<br style="box-sizing: border-box\;" />\nGeneral public is encouraged to bring resume for straight-to-work opportunities.&nbsp\;<br style="box-sizing: border-box\;" />\n<br style="box-sizing: border-box\;" />\n<span style="box-sizing: border-box\;">February 7&nbsp\;&amp\; 8\, 2023<br style="box-sizing: border-box\;" />\n9AM - 3PM&nbsp\;<br style="box-sizing: border-box\;" />\n11th &amp\; 12th Graders staggered in intervals<br style="box-sizing: border-box\;" />\nOpen to the Public Each Day</span></p>\n\n<p style="font-size: 16px\; box-sizing: border-box\; margin: 0px 0px 1rem\; caret-color: rgb(68\, 68\, 68)\; color: rgb(68\, 68\, 68)\; font-family: Khmer\, sans-serif\;">Vendor Application:&nbsp\;</p>\n\n<p style="font-size: 16px\; box-sizing: border-box\; margin: 0px 0px 1rem\; caret-color: rgb(68\, 68\, 68)\; color: rgb(68\, 68\, 68)\; font-family: Khmer\, sans-serif\;">https://business.eschamber.com/news/details/baldwin-connect-career-expo-2023</p>\n
LOCATION:Robertsdale Coliseum 19477 Fairground Rd.\, Robertsdale\, AL 36567
UID:e.1304.26580
SEQUENCE:3
DTSTAMP:20260421T164606Z
URL:https://business.eschamber.com/events/details/2023-baldwin-connect-career-expo-02-08-2023-26580
END:VEVENT

END:VCALENDAR
