BEGIN:VCALENDAR
VERSION:2.0
PRODID:-//ChamberMaster//Event Calendar 2.0//EN
METHOD:PUBLISH
X-PUBLISHED-TTL:P3D
REFRESH-INTERVAL:P3D
CALSCALE:GREGORIAN
BEGIN:VEVENT
DTSTART:20230901T230000Z
DTEND:20230902T190000Z
X-MICROSOFT-CDO-ALLDAYEVENT:FALSE
SUMMARY:2023 National Single Mom Conference
DESCRIPTION:The 2023 National TLSM Single Moms' Conference is coming! We'll have both in-person and virtual attendance. And it's absolutely FREE! Our in-person event will be in Mobile\, Alabama! Mark your calendars to join The Life of a Single Mom  on Labor Day Weekend (September 1-2\, 2023) at Mount Hebron Church for a powerful time of worship\, Holy Spirit-filled keynote sessions\, national speakers\, giveaways\, food\, childcare\, and so much more. If you are a single mom\, looking for an encounter with the Lord and hungry for breakthrough\, this event is for you! Make plans now! Book your hotel! Mark your calendars! Caravan with friends! EVENT REGISTRATION IS NOW OPEN! This is the largest single moms' conference in the U.S. Audiences\, both virtually and in-person\, will hear from keynote speakers on single parent issues\, experience life-changing worship\, enter to win door prizes\, visit vendor booths\, and most importantly\, be stretched spiritually\, emotionally\, parentally\, and financially to go to new heights with the Lord. In-person attendance also includes 2 meals and dessert.
X-ALT-DESC;FMTTYPE=text/html:The 2023 National TLSM Single Moms&#39\; Conference is coming! We&#39\;ll have both in-person and virtual attendance. And it&#39\;s absolutely FREE! Our in-person event will be in Mobile\, Alabama! Mark your calendars to join The Life of a Single Mom&reg\; on Labor Day Weekend (September 1-2\, 2023) at Mount Hebron Church for a powerful time of worship\, Holy Spirit-filled keynote sessions\, national speakers\, giveaways\, food\, childcare\, and so much more. If you are a single mom\, looking for an encounter with the Lord and hungry for breakthrough\, this event is for you! Make plans now! Book your hotel! Mark your calendars! Caravan with friends! EVENT REGISTRATION IS NOW OPEN! This is the largest single moms&#39\; conference in the U.S. Audiences\, both virtually and in-person\, will hear from keynote speakers on single parent issues\, experience life-changing worship\, enter to win door prizes\, visit vendor booths\, and most importantly\, be stretched spiritually\, emotionally\, parentally\, and financially to go to new heights with the Lord. In-person attendance also includes 2 meals and dessert.
LOCATION:Mount Hebron Church 2531 Berkley Ave Mobile\, AL 36617
UID:e.1304.27987
SEQUENCE:3
DTSTAMP:20260420T020125Z
URL:https://business.eschamber.com/events/details/2023-national-single-mom-conference-27987
END:VEVENT

END:VCALENDAR
