BEGIN:VCALENDAR
VERSION:2.0
PRODID:-//ChamberMaster//Event Calendar 2.0//EN
METHOD:PUBLISH
X-PUBLISHED-TTL:P3D
REFRESH-INTERVAL:P3D
CALSCALE:GREGORIAN
BEGIN:VEVENT
DTSTART:20230911T160000Z
DTEND:20230911T210000Z
X-MICROSOFT-CDO-ALLDAYEVENT:FALSE
SUMMARY:2023 Never Forget Lunch
DESCRIPTION:The Original Oyster House restaurants will honor Mobile and Baldwin County law enforcement\, firefighters\, paramedics and sheriff officers by offering a free Never Forget Lunch at the Gulf Shores and Mobile Causeway locations on Monday\, Sept. 11\, 2023 from 11 am to 4 pm. The 16th Annual Never Forget Lunch was established by the Original Oyster House restaurants in honor of the 9/11 first responders who risked their lives to save\, protect and serve and in recognition of all first responders for their service. An ID or first responder's uniform is required for free dine-in only lunch.
X-ALT-DESC;FMTTYPE=text/html:The Original Oyster House restaurants will honor Mobile and Baldwin County law enforcement\, firefighters\, paramedics and sheriff officers by offering a free Never Forget Lunch at the Gulf Shores and Mobile Causeway locations on Monday\, Sept. 11\, 2023 from 11 am to 4 pm. The 16th Annual Never Forget Lunch was established by the Original Oyster House restaurants in honor of the 9/11 first responders who risked their lives to save\, protect and serve and in recognition of all first responders for their service. An ID or first responder&rsquo\;s uniform is required for free dine-in only lunch.
LOCATION:Original Oyster House Gulf Shores & on the Mobile Causeway
UID:e.1304.28009
SEQUENCE:3
DTSTAMP:20260420T015900Z
URL:https://business.eschamber.com/events/details/2023-never-forget-lunch-28009
END:VEVENT

END:VCALENDAR
