BEGIN:VCALENDAR
VERSION:2.0
PRODID:-//ChamberMaster//Event Calendar 2.0//EN
METHOD:PUBLISH
X-PUBLISHED-TTL:P3D
REFRESH-INTERVAL:P3D
CALSCALE:GREGORIAN
BEGIN:VEVENT
DTSTART:20191026T140000Z
DTEND:20191026T210000Z
X-MICROSOFT-CDO-ALLDAYEVENT:FALSE
SUMMARY:29th Annual British Car Festival
DESCRIPTION:South Alabama British Car Club's 29th Annual British Care Festival! Celebrating 60 years of the Austin Healey 3000! Fee to enter your car.
X-ALT-DESC;FMTTYPE=text/html:South Alabama British Car Club&#39\;s 29th Annual British Care Festival! Celebrating 60 years of the Austin Healey 3000! Fee to enter your car.
LOCATION:Fairhope United Methodist Church 155 S. Section Street Fairhope\, AL
UID:e.1304.12705
SEQUENCE:3
DTSTAMP:20260419T172816Z
URL:https://business.eschamber.com/events/details/29th-annual-british-car-festival-12705
END:VEVENT

END:VCALENDAR
