BEGIN:VCALENDAR
VERSION:2.0
PRODID:-//ChamberMaster//Event Calendar 2.0//EN
METHOD:PUBLISH
X-PUBLISHED-TTL:P3D
REFRESH-INTERVAL:P3D
CALSCALE:GREGORIAN
BEGIN:VEVENT
DTSTART:20210423T163000Z
DTEND:20210424T000000Z
X-MICROSOFT-CDO-ALLDAYEVENT:FALSE
SUMMARY:2nd Annual Tee Time for Autisim
DESCRIPTION:2nd Annual Tee Time for Autism - benefiting children in your community\, presented by Uniti Fiber.
X-ALT-DESC;FMTTYPE=text/html:2nd Annual Tee Time for Autism - benefiting children in your community\, presented by Uniti Fiber.
LOCATION:Timbercreek Golf Club\, 9650 Timbercreek Blvd.\, Daphne\, AL 36527
UID:e.1304.20587
SEQUENCE:3
DTSTAMP:20260423T191920Z
URL:https://business.eschamber.com/events/details/2nd-annual-tee-time-for-autisim-20587
END:VEVENT

END:VCALENDAR
