BEGIN:VCALENDAR
VERSION:2.0
PRODID:-//ChamberMaster//Event Calendar 2.0//EN
METHOD:PUBLISH
X-PUBLISHED-TTL:P3D
REFRESH-INTERVAL:P3D
CALSCALE:GREGORIAN
BEGIN:VEVENT
DTSTART:20221111T150000Z
DTEND:20221113T230000Z
X-MICROSOFT-CDO-ALLDAYEVENT:FALSE
SUMMARY:38TH Annual Christmas Jubilee
DESCRIPTION:Kick off your holiday shopping and support your community at Junior League of Mobile's annual Christmas Jubilee located at the Mobile Convention Center. The Gulf Coast's greatest holiday market features a variety of merchants from around the country under one roof for three exciting days of shopping! Get into the holiday spirit and if all that shopping leaves you hungry\, the concession stands will be open! And\, for our over-21 shoppers\, we'll have a cash bar available during market hours! Participation in Junior League of Mobile's largest fundraiser   as a merchant or a shopper   makes a direct impact on the Mobile and Baldwin County communities through the development of Junior League of Mobile volunteers and the numerous local agencies and programs with which Junior League of Mobile partners. Make your plans now to join us this year for our 38th Anniversary! SPECIAL EVENTS VIP Shopping   $35 VIP Shopping is our preview event that kicks off Christmas Jubilee on Friday morning! Shop crowd-free and stroller free before the market opens for general admission. Take advantage of being the first to shop our market while enjoying morning cocktails and a breakfast treat! Your VIP shopping ticket will include shopping beyond the special event hours.
X-ALT-DESC;FMTTYPE=text/html:Kick off your holiday shopping and support your community at Junior League of Mobile&rsquo\;s annual Christmas Jubilee located at the Mobile Convention Center. The Gulf Coast&rsquo\;s greatest holiday market features a variety of merchants from around the country under one roof for three exciting days of shopping! Get into the holiday spirit and if all that shopping leaves you hungry\, the concession stands will be open! And\, for our over-21 shoppers\, we&rsquo\;ll have a cash bar available during market hours! Participation in Junior League of Mobile&rsquo\;s largest fundraiser &ndash\; as a merchant or a shopper &ndash\; makes a direct impact on the Mobile and Baldwin County communities through the development of Junior League of Mobile volunteers and the numerous local agencies and programs with which Junior League of Mobile partners. Make your plans now to join us this year for our 38th Anniversary! SPECIAL EVENTS VIP Shopping &ndash\; $35 VIP Shopping is our preview event that kicks off Christmas Jubilee on Friday morning! Shop crowd-free and stroller free before the market opens for general admission. Take advantage of being the first to shop our market while enjoying morning cocktails and a breakfast treat! Your VIP shopping ticket will include shopping beyond the special event hours.
LOCATION:Mobile Convention Center One South Water Street Mobile\, AL 36602
UID:e.1304.26425
SEQUENCE:3
DTSTAMP:20260423T162334Z
URL:https://business.eschamber.com/events/details/38th-annual-christmas-jubilee-26425
END:VEVENT

END:VCALENDAR
