BEGIN:VCALENDAR
VERSION:2.0
PRODID:-//ChamberMaster//Event Calendar 2.0//EN
METHOD:PUBLISH
X-PUBLISHED-TTL:P3D
REFRESH-INTERVAL:P3D
CALSCALE:GREGORIAN
BEGIN:VEVENT
DTSTART:20210504T170000Z
DTEND:20210504T220000Z
X-MICROSOFT-CDO-ALLDAYEVENT:FALSE
SUMMARY:3rd Annual Eastern Shore Business Expo
DESCRIPTION:Eastern Shore Business Expo is Baldwin County's premier business event showcasing regional companies. This must-attend event offers the business community\, from small business entrepreneurs to executives\, an opportunity to network with local professionals\, engage with exhibitors and discover resources for business growth. In order to remain inclusive to all businesses\, the Eastern Shore Business Expo entry level exhibition prices are kept to a minimum. Currently booths start at $300.
X-ALT-DESC;FMTTYPE=text/html:Eastern Shore Business Expo is Baldwin County&rsquo\;s premier business event showcasing regional companies. This must-attend event offers the business community\, from small business entrepreneurs to executives\, an opportunity to network with local professionals\, engage with exhibitors and discover resources for business growth. In order to remain inclusive to all businesses\, the Eastern Shore Business Expo entry level exhibition prices are kept to a minimum. Currently booths start at $300.
LOCATION:Fairhope Civic Center\, 161 N. Section Street\, Fairhope\, AL
UID:e.1304.20689
SEQUENCE:3
DTSTAMP:20260423T175046Z
URL:https://business.eschamber.com/events/details/3rd-annual-eastern-shore-business-expo-20689
END:VEVENT

END:VCALENDAR
