BEGIN:VCALENDAR
VERSION:2.0
PRODID:-//ChamberMaster//Event Calendar 2.0//EN
METHOD:PUBLISH
X-PUBLISHED-TTL:P3D
REFRESH-INTERVAL:P3D
CALSCALE:GREGORIAN
BEGIN:VEVENT
DTSTART:20210430T150000Z
DTEND:20210502T220000Z
X-MICROSOFT-CDO-ALLDAYEVENT:FALSE
SUMMARY:49th Annual Outdoor Art Show
DESCRIPTION:Come join us for the 49th Annual Outdoor Art Show. 90 artist booths lining Section Street between Oak and Magnolia Streets in downtown Fairhope. Live music\, art raffle and more.
X-ALT-DESC;FMTTYPE=text/html:Come join us for the 49th Annual Outdoor Art Show. 90 artist booths lining Section Street between Oak and Magnolia Streets in downtown Fairhope. Live music\, art raffle and more.
LOCATION:Downtown Fairhope on Section Street between Oak and Magnolia Streets
UID:e.1304.20583
SEQUENCE:3
DTSTAMP:20260423T175218Z
URL:https://business.eschamber.com/events/details/49th-annual-outdoor-art-show-20583
END:VEVENT

END:VCALENDAR
