BEGIN:VCALENDAR
VERSION:2.0
PRODID:-//ChamberMaster//Event Calendar 2.0//EN
METHOD:PUBLISH
X-PUBLISHED-TTL:P3D
REFRESH-INTERVAL:P3D
CALSCALE:GREGORIAN
BEGIN:VEVENT
DTSTART:20191102T230000Z
DTEND:20191103T020000Z
X-MICROSOFT-CDO-ALLDAYEVENT:FALSE
SUMMARY:4th Annual GreekFest Charity Gala
DESCRIPTION:Black tie affair benefiting three local charities: Victory Health Partners\, NEST of Mobile\, and The Learning Tree. Dinner\, dancing\, and auction to enjoy.
X-ALT-DESC;FMTTYPE=text/html:Black tie affair benefiting three local charities: Victory Health Partners\, NEST of Mobile\, and The Learning Tree. Dinner\, dancing\, and auction to enjoy.
LOCATION:Annunciation Creek Orthodox Church 50 S. Ann Street Mobile\, AL 36604
UID:e.1304.13017
SEQUENCE:3
DTSTAMP:20260419T143003Z
URL:https://business.eschamber.com/events/details/4th-annual-greekfest-charity-gala-13017
END:VEVENT

END:VCALENDAR
