BEGIN:VCALENDAR
VERSION:2.0
PRODID:-//ChamberMaster//Event Calendar 2.0//EN
METHOD:PUBLISH
X-PUBLISHED-TTL:P3D
REFRESH-INTERVAL:P3D
CALSCALE:GREGORIAN
BEGIN:VEVENT
DTSTART:20201113T150000Z
DTEND:20201113T230000Z
X-MICROSOFT-CDO-ALLDAYEVENT:FALSE
SUMMARY:4th Annual SEEDS Golf Tournament
DESCRIPTION:Come join us for a day of prizes\, food\, golf\, fun AND support your Daphne schools! Hosted by SEEDS Supporting Educational Excellence in Daphne Schools and TimberCreek Golf Club. Closest to the Pin and Longest Drive Contest. Registration begins at 8:00a.m\, golf starts at 9:00am\, lunch to follow. For more information and to register online please visit: https://bit.ly/31WuESj
X-ALT-DESC;FMTTYPE=text/html:Come join us for a day of prizes\, food\, golf\, fun AND support your Daphne schools! Hosted by SEEDS Supporting Educational Excellence in Daphne Schools and TimberCreek Golf Club. Closest to the Pin and Longest Drive Contest. Registration begins at 8:00a.m\, golf starts at 9:00am\, lunch to follow. For more information and to register online please visit: https://bit.ly/31WuESj
LOCATION:Timbercreek Golf Club\, 9650 Timbercreek Blvd Daphne\, AL 36527
UID:e.1304.14348
SEQUENCE:3
DTSTAMP:20260424T031841Z
URL:https://business.eschamber.com/events/details/4th-annual-seeds-golf-tournament-14348
END:VEVENT

END:VCALENDAR
