BEGIN:VCALENDAR
VERSION:2.0
PRODID:-//ChamberMaster//Event Calendar 2.0//EN
METHOD:PUBLISH
X-PUBLISHED-TTL:P3D
REFRESH-INTERVAL:P3D
CALSCALE:GREGORIAN
BEGIN:VEVENT
DTSTART:20191025T213000Z
DTEND:20191025T233000Z
X-MICROSOFT-CDO-ALLDAYEVENT:FALSE
SUMMARY:5th Annual Sensory Friendly Trick-or-Treat Event
DESCRIPTION:Sensory Friendly Trick-or-Treat event to serve families with special needs in the community by offering a safe environment that is sensitive to their child's unique differences. No flashing lights\, no scary costumes or decorations. Free event.
X-ALT-DESC;FMTTYPE=text/html:Sensory Friendly Trick-or-Treat event to serve families with special needs in the community by offering a safe environment that is sensitive to their child&#39\;s unique differences. No flashing lights\, no scary costumes or decorations. Free event.
LOCATION:American Autism & Rehabilitation Center at 8909 Rand Avenue\, Daphne\, AL 36526
UID:e.1304.13009
SEQUENCE:3
DTSTAMP:20260419T155132Z
URL:https://business.eschamber.com/events/details/5th-annual-sensory-friendly-trick-or-treat-event-13009
END:VEVENT

END:VCALENDAR
