BEGIN:VCALENDAR
VERSION:2.0
PRODID:-//ChamberMaster//Event Calendar 2.0//EN
METHOD:PUBLISH
X-PUBLISHED-TTL:P3D
REFRESH-INTERVAL:P3D
CALSCALE:GREGORIAN
BEGIN:VEVENT
DTSTART:20210507T003000Z
DTEND:20210507T023000Z
X-MICROSOFT-CDO-ALLDAYEVENT:FALSE
SUMMARY:8th Annual Theatre on the Bluff-The Wizard of Oz
DESCRIPTION:The 8th Annual Theatre on the Bluff presents The Wizard of Oz\, hosted by the Eastern Shore Repertory Theatre\, with the Joseph Treadwell Charitable Foundation & Eastern Shore Friends of the Arts. It is directed by Erin Langley and David Redman Scott\, and choreographed by Matthew Kiel.
X-ALT-DESC;FMTTYPE=text/html:The 8th Annual Theatre on the Bluff presents The Wizard of Oz\, hosted by the Eastern Shore Repertory Theatre\, with the Joseph Treadwell Charitable Foundation &amp\; Eastern Shore Friends of the Arts. It is directed by Erin Langley and David Redman Scott\, and choreographed by Matthew Kiel.
LOCATION:Henry George Park on the Bluff in Fairhope
UID:e.1304.20589
SEQUENCE:3
DTSTAMP:20260423T175508Z
URL:https://business.eschamber.com/events/details/8th-annual-theatre-on-the-bluff-the-wizard-of-oz-20589
END:VEVENT

END:VCALENDAR
