BEGIN:VCALENDAR
VERSION:2.0
PRODID:-//ChamberMaster//Event Calendar 2.0//EN
METHOD:PUBLISH
X-PUBLISHED-TTL:P3D
REFRESH-INTERVAL:P3D
CALSCALE:GREGORIAN
BEGIN:VEVENT
DTSTART:20191108T000000Z
DTEND:20191108T020000Z
X-MICROSOFT-CDO-ALLDAYEVENT:FALSE
SUMMARY:9th Annual Cocktails for the Coast
DESCRIPTION:The Ninth Annual Cocktails for the Coast will take place on Thursday\, November 7 from 6:00-8:00 p.m. at the Grand Hotel Golf Resort and Spa which is located at One Grand Boulevard\, Point Clear\, Alabama. Attendees will enjoy a delicious catered meal\, oysters from the Mobile Oyster Company\, beer from the Fairhope Brewing Company\, as well as live music from Mitch Rencher and Norm Hastings\, collectively known as the Tropic Flyer Steel Drum Duo. Cocktails for the Coast is ACF's celebration of our shared coastal heritage and the dedicated individuals who work to preserve our coastal resources. All proceeds will benefit the Alabama Coastal Foundation's habitat restoration and environmental education programs. Tickets will be available online for purchase closer to the event date.
X-ALT-DESC;FMTTYPE=text/html:The Ninth Annual Cocktails for the Coast will take place on Thursday\, November 7 from 6:00-8:00 p.m. at the Grand Hotel Golf Resort and Spa which is located at One Grand Boulevard\, Point Clear\, Alabama. Attendees will enjoy a delicious catered meal\, oysters from the Mobile Oyster Company\, beer from the Fairhope Brewing Company\, as well as live music from Mitch Rencher and Norm Hastings\, collectively known as the Tropic Flyer Steel Drum Duo. Cocktails for the Coast is ACF&#39\;s celebration of our shared coastal heritage and the dedicated individuals who work to preserve our coastal resources. All proceeds will benefit the Alabama Coastal Foundation&#39\;s habitat restoration and environmental education programs. Tickets will be available online for purchase closer to the event date.
LOCATION:The Grand Hotel Golf Resort & Spa
UID:e.1304.12904
SEQUENCE:3
DTSTAMP:20260419T160001Z
URL:https://business.eschamber.com/events/details/9th-annual-cocktails-for-the-coast-12904
END:VEVENT

END:VCALENDAR
