BEGIN:VCALENDAR
VERSION:2.0
PRODID:-//ChamberMaster//Event Calendar 2.0//EN
METHOD:PUBLISH
X-PUBLISHED-TTL:P3D
REFRESH-INTERVAL:P3D
CALSCALE:GREGORIAN
BEGIN:VEVENT
DTSTART:20201002T180000Z
DTEND:20201002T223000Z
X-MICROSOFT-CDO-ALLDAYEVENT:FALSE
SUMMARY:9th Annual Shepherd's Place Foundation Golf Tournament
DESCRIPTION:Join us for the 9th Annual Shepherd's Place Foundation golf tournament\, scheduled for Friday\, October 2\, 2020. Shotgun start at 1:00 p.m. at Lakewood Golf Course. Registration is now available at www.shepherdsplacerespite.com. Individual golfers\, teams and sponsorship opportunities available. For more information\, call 251.270.0097.
X-ALT-DESC;FMTTYPE=text/html:Join us for the 9th Annual Shepherd&#39\;s Place Foundation golf tournament\, scheduled for Friday\, October 2\, 2020. Shotgun start at 1:00 p.m. at Lakewood Golf Course. Registration is now available at www.shepherdsplacerespite.com. Individual golfers\, teams and sponsorship opportunities available. For more information\, call 251.270.0097.
LOCATION:Lakewood Golf Course\, Point Clear\, AL
UID:e.1304.13760
SEQUENCE:3
DTSTAMP:20260424T044233Z
URL:https://business.eschamber.com/events/details/9th-annual-shepherd-s-place-foundation-golf-tournament-13760
END:VEVENT

END:VCALENDAR
