BEGIN:VCALENDAR
VERSION:2.0
PRODID:-//ChamberMaster//Event Calendar 2.0//EN
METHOD:PUBLISH
X-PUBLISHED-TTL:P3D
REFRESH-INTERVAL:P3D
CALSCALE:GREGORIAN
BEGIN:VEVENT
DTSTART:20201213T190000Z
DTEND:20201213T200000Z
X-MICROSOFT-CDO-ALLDAYEVENT:FALSE
SUMMARY:A Bountiful Holiday
DESCRIPTION:Santa will unpack a bounty of musical gifts on our stage this year! We will celebrate the holidays with an old-fashioned variety show with performances by various orchestral sections. While respecting the most current guidelines\, we are creating safe\, socially-distanced musical experiences for all to enjoy. We will allow 400 people in the 1\,900-seat Saenger. Seats and rows will be blocked to accommodate social distancing. Masks are required for audience and musicians. Concerts are limited to approximately 1 hour without an intermission.
X-ALT-DESC;FMTTYPE=text/html:Santa will unpack a bounty of musical gifts on our stage this year! We will celebrate the holidays with an old-fashioned variety show with performances by various orchestral sections. While respecting the most current guidelines\, we are creating safe\, socially-distanced musical experiences for all to enjoy. We will allow 400 people in the 1\,900-seat Saenger. Seats and rows will be blocked to accommodate social distancing. Masks are required for audience and musicians. Concerts are limited to approximately 1 hour without an intermission.
LOCATION:Saenger Theatre\, 6 S. Joachim Street\, Mobile\, AL
UID:e.1304.14381
SEQUENCE:3
DTSTAMP:20260424T014822Z
URL:https://business.eschamber.com/events/details/a-bountiful-holiday-12-13-2020-14381
END:VEVENT

END:VCALENDAR
