BEGIN:VCALENDAR
VERSION:2.0
PRODID:-//ChamberMaster//Event Calendar 2.0//EN
METHOD:PUBLISH
X-PUBLISHED-TTL:P3D
REFRESH-INTERVAL:P3D
CALSCALE:GREGORIAN
BEGIN:VEVENT
DTSTART:20191215T203000Z
DTEND:20191215T223000Z
X-MICROSOFT-CDO-ALLDAYEVENT:FALSE
SUMMARY:A Celtic Christmas
DESCRIPTION:Join the Mobile Symphony for an exciting Celtic Christmas! International Irish sensation Cherish the Ladies\, joyful carols\, rambunctious fund and some high-stepping Irish dancers make this the best holiday concert on the Gulf Coast!
X-ALT-DESC;FMTTYPE=text/html:Join the Mobile Symphony for an exciting Celtic Christmas! International Irish sensation Cherish the Ladies\, joyful carols\, rambunctious fund and some high-stepping Irish dancers make this the best holiday concert on the Gulf Coast!
LOCATION:Saenger Theatre\, 6 S. Joachim Street\, Mobile\, AL
UID:e.1304.13150
SEQUENCE:3
DTSTAMP:20260421T194450Z
URL:https://business.eschamber.com/events/details/a-celtic-christmas-12-15-2019-13150
END:VEVENT

END:VCALENDAR
