BEGIN:VCALENDAR
VERSION:2.0
PRODID:-//ChamberMaster//Event Calendar 2.0//EN
METHOD:PUBLISH
X-PUBLISHED-TTL:P3D
REFRESH-INTERVAL:P3D
CALSCALE:GREGORIAN
BEGIN:VEVENT
DTSTART:20220403T160000Z
DTEND:20220403T210000Z
X-MICROSOFT-CDO-ALLDAYEVENT:FALSE
SUMMARY:A Very Madd Tea Party
DESCRIPTION:Back for 2022\, OWA's Spring Fling event will feature A Very Madd Tea Party in Downtown OWA\, presented by Seward Studios! This unbelievable teatime experience will spotlight a family-friendly live show with an outrageous cast of characters straight out of Wonderland!\n\nThis 45-minute\, interactive teatime will feature a live song and dance performance from a very Madd Hatter and friends as well as a selection of teas and refreshments. Engage with Alice\, the Madd Hatter\, Queen of Hearts\, and the elusive White Rabbit.\n\nTeatime will include beverages and light refreshments. Please note that teatime food items will be served buffet-style by OWA Team Members. This exclusive\, ticketed tea party will be held in Downtown OWA in the building across from Rum Island. There will be live singing\, dancing\, and acting. No video or camera footage is allowed during the show.\n\n\n\n\n\n\n\n\n\n\n\nTickets are $24.99 (plus taxes & fees) per person for General Admission. General Admission tickets are available for the following dates and showtimes: April 9th\, 10th\, or 16th at 11am\, 1pm\, or 3pm\, while supplies last. Are you a Season Passholder at the OWA theme park?\n\nSeason Passholder Weekend for A Very Madd Tea Party is April 2nd   3rd. Choose from an 11am or 1pm showtime and exclusive pricing is available for $21.99 (plus taxes & fees) per Passholder while supplies last.\n\n"Yes\, that's it! Said the Hatter with a sigh\, it's always teatime." -Lewis Carroll
X-ALT-DESC;FMTTYPE=text/html:<div style="margin-left:auto\; margin-right:auto">\n<div>\n<div>\n<div>\n<div>\n<p>Back for 2022\, OWA&rsquo\;s Spring Fling event will feature&nbsp\;<em>A Very Madd Tea Party</em>&nbsp\;in Downtown OWA\, presented by Seward Studios! This unbelievable teatime experience will spotlight a family-friendly live show with an outrageous cast of characters straight out of Wonderland!</p>\n\n<p>This 45-minute\, interactive teatime will feature a live song and dance performance from a very Madd Hatter and friends as well as a selection of teas and refreshments. Engage with Alice\, the Madd Hatter\, Queen of Hearts\, and the elusive White Rabbit.</p>\n\n<p>Teatime will include beverages and light refreshments. Please note that teatime food items will be served buffet-style by OWA Team Members. This exclusive\, ticketed tea party will be held in Downtown OWA in the building across from Rum Island. There will be live singing\, dancing\, and acting. No video or camera footage is allowed during the show.</p>\n</div>\n</div>\n</div>\n</div>\n</div>\n\n<div style="margin-left:auto\; margin-right:auto">\n<div>\n<div>\n<div>\n<div>\n<p>Tickets are $24.99 (plus taxes &amp\; fees) per person for General Admission. General Admission tickets are available for the following dates and showtimes: April 9<span style="font-size:13.5px">th</span>\, 10<span style="font-size:13.5px">th</span>\, or 16<span style="font-size:13.5px">th</span>&nbsp\;at 11am\, 1pm\, or 3pm\, while supplies last.&nbsp\;Are you a Season Passholder at the OWA theme park?</p>\n\n<p>Season Passholder Weekend for&nbsp\;<em>A Very Madd Tea Party</em>&nbsp\;is April 2<span style="font-size:13.5px">nd</span>&nbsp\;&ndash\; 3<span style="font-size:13.5px">rd</span>. Choose from an 11am or 1pm showtime and exclusive pricing is available for $21.99 (plus taxes &amp\; fees) per Passholder while supplies last.</p>\n\n<p><em>&ldquo\;Yes\, that&rsquo\;s it! Said the Hatter with a sigh\, it&rsquo\;s always teatime.&rdquo\; -Lewis Carroll</em></p>\n</div>\n</div>\n</div>\n</div>\n</div>\n
LOCATION:1501 S. OWA Blvd. Foley\, AL. 36535
UID:e.1304.23380
SEQUENCE:3
DTSTAMP:20260423T060827Z
URL:https://business.eschamber.com/events/details/a-very-madd-tea-party-04-03-2022-23380
END:VEVENT

END:VCALENDAR
