BEGIN:VCALENDAR
VERSION:2.0
PRODID:-//ChamberMaster//Event Calendar 2.0//EN
METHOD:PUBLISH
X-PUBLISHED-TTL:P3D
REFRESH-INTERVAL:P3D
CALSCALE:GREGORIAN
BEGIN:VEVENT
DTSTART:20220915T220000Z
DTEND:20220916T010000Z
X-MICROSOFT-CDO-ALLDAYEVENT:FALSE
SUMMARY:Active Shooter Preparedness Training Course
DESCRIPTION:Fairhope Christian Church will be hosting an Active Shooter Preparedness Training course on Thursday\, September 15th. Fairhope and Coastal Alabama Police Departments will provide training on how to respond in an active shooter situation. Dinner will be provided at 5. Training is from 6-8 and includes both presentational and hands-on training. This is a free event open to the public!
X-ALT-DESC;FMTTYPE=text/html:Fairhope Christian Church will be hosting an Active Shooter Preparedness Training course on Thursday\, September 15th. Fairhope and Coastal Alabama Police Departments will provide training on how to respond in an active shooter situation. Dinner will be provided at 5. Training is from 6-8 and includes both presentational and hands-on training. This is a free event open to the public!
LOCATION:Fairhope Christian Church\, 349 Fairwood Blvd.\, Fairhope\, AL
UID:e.1304.25911
SEQUENCE:3
DTSTAMP:20260423T191325Z
URL:https://business.eschamber.com/events/details/active-shooter-preparedness-training-course-25911
END:VEVENT

END:VCALENDAR
