BEGIN:VCALENDAR
VERSION:2.0
PRODID:-//ChamberMaster//Event Calendar 2.0//EN
METHOD:PUBLISH
X-PUBLISHED-TTL:P3D
REFRESH-INTERVAL:P3D
CALSCALE:GREGORIAN
BEGIN:VEVENT
DTSTART:20220917T130000Z
DTEND:20220917T170000Z
X-MICROSOFT-CDO-ALLDAYEVENT:FALSE
SUMMARY:Alabama Coastal Cleanup-Fairhope Zone
DESCRIPTION:The 35th Annual Alabama Coastal Cleanup is a good opportunity for Fairhope residents to not only clean up along the coast but to also clean up city wide. Again\, this year the City of Fairhope is encouraging neighborhood groups and others to join together to pick up trash and help make a difference.\n\n\n\nThe Alabama Coastal Clean-Up is part of an international effort to remove debris from coastal waters.\n\n\n\nVolunteers who sign up early will receive a free t-shirt. The packets of supplies will be available at the James P. Nix Senior Center (1 Bayou Drive) on Friday\, September 16th from 8am to 4pm. All other volunteers can sign in at the Fairhope Pier on Saturday morning at 8am.
X-ALT-DESC;FMTTYPE=text/html:The 35th Annual Alabama Coastal Cleanup is a good opportunity for Fairhope residents to not only clean up along the coast but to also clean up city wide. Again\, this year the City of Fairhope is encouraging neighborhood groups and others to join together to pick up trash and help make a difference.<br />\n<br />\nThe Alabama Coastal Clean-Up is part of an international effort to remove debris from coastal waters.<br />\n<br />\nVolunteers who sign up early will receive a free t-shirt. The packets of supplies will be available at the James P. Nix Senior Center (1 Bayou Drive) on Friday\, September 16th from 8am to 4pm. All other volunteers can sign in at the Fairhope Pier on Saturday morning at 8am.
LOCATION:Fairhope Pier\, Fairhope\, AL
UID:e.1304.25865
SEQUENCE:3
DTSTAMP:20260423T191617Z
URL:https://business.eschamber.com/events/details/alabama-coastal-cleanup-fairhope-zone-25865
END:VEVENT

END:VCALENDAR
