BEGIN:VCALENDAR
VERSION:2.0
PRODID:-//ChamberMaster//Event Calendar 2.0//EN
METHOD:PUBLISH
X-PUBLISHED-TTL:P3D
REFRESH-INTERVAL:P3D
CALSCALE:GREGORIAN
BEGIN:VEVENT
DTSTART:20191023T230000Z
DTEND:20191024T030000Z
X-MICROSOFT-CDO-ALLDAYEVENT:FALSE
SUMMARY:Anchor Cross' Inaugural Masquerade Ball
DESCRIPTION:Join Anchor Cross Cancer Foundation for our inaugural Masquerade Ball on Wednesday\, October 23rd at the Daphne Civic Center. Support those fighting cancer in our local community and celebrate the survivors with this "mask-themed" ball\, complete with live music\, food\, drinks\, red carpet and so much more. We encourage all attendees to dress up for this event in your best masks\, wigs and masquerade attire! Cancer patients in active treatment can also enjoy "pre-party pampering" with make-up artists\, hair stylists and a masseuse. Each ticket purchased donates funds to Anchor Cross Cancer Foundation\, a local non-profit that offers financial assistance to local cancer patients for everyday needs like utility bills\, co-pays and transportation to treatment.
X-ALT-DESC;FMTTYPE=text/html:Join Anchor Cross Cancer Foundation for our inaugural Masquerade Ball on Wednesday\, October 23rd at the Daphne Civic Center. Support those fighting cancer in our local community and celebrate the survivors with this &ldquo\;mask-themed&rdquo\; ball\, complete with live music\, food\, drinks\, red carpet and so much more. We encourage all attendees to dress up for this event in your best masks\, wigs and masquerade attire! Cancer patients in active treatment can also enjoy &ldquo\;pre-party pampering&rdquo\; with make-up artists\, hair stylists and a masseuse. Each ticket purchased donates funds to Anchor Cross Cancer Foundation\, a local non-profit that offers financial assistance to local cancer patients for everyday needs like utility bills\, co-pays and transportation to treatment.
LOCATION:Daphne Civic Center 2603 Hwy 98\, Daphne\, AL
UID:e.1304.12805
SEQUENCE:3
DTSTAMP:20260419T155240Z
URL:https://business.eschamber.com/events/details/anchor-cross-inaugural-masquerade-ball-12805
END:VEVENT

END:VCALENDAR
