BEGIN:VCALENDAR
VERSION:2.0
PRODID:-//ChamberMaster//Event Calendar 2.0//EN
METHOD:PUBLISH
X-PUBLISHED-TTL:P3D
REFRESH-INTERVAL:P3D
CALSCALE:GREGORIAN
BEGIN:VEVENT
DTSTART:20210718T160000Z
DTEND:20210718T173000Z
X-MICROSOFT-CDO-ALLDAYEVENT:FALSE
SUMMARY:Animal Ambassadors Cruise
DESCRIPTION:5 Rivers' Educators will be talking about Alabama's state reptile\, the Alabama Red-Bellied Turtle. This endangered species is found only in the Mobile-Tensaw Delta and surrounding area. Females nest on land around the Delta\, including 5 Rivers property. Hatchlings are small\, about the size of a quarter\, and have a very high mortality rate from predation. Each year\, hatchlings are found on land at 5 Rivers by observant staff and guests\, and are then released to the water. Come learn about this fascinating and charismatic turtle. This family-friendly cruise leaves from the Bartram Landing at the Delta Resource Center\, 30945 Five Rivers Blvd\, Spanish Fort\, AL 36527
X-ALT-DESC;FMTTYPE=text/html:5 Rivers&rsquo\; Educators will be talking about Alabama&rsquo\;s state reptile\, the Alabama Red-Bellied Turtle. This endangered species is found only in the Mobile-Tensaw Delta and surrounding area. Females nest on land around the Delta\, including 5 Rivers property. Hatchlings are small\, about the size of a quarter\, and have a very high mortality rate from predation. Each year\, hatchlings are found on land at 5 Rivers by observant staff and guests\, and are then released to the water. Come learn about this fascinating and charismatic turtle. This family-friendly cruise leaves from the Bartram Landing at the Delta Resource Center\, 30945 Five Rivers Blvd\, Spanish Fort\, AL 36527
LOCATION:Bartram Landing at the Delta Resource Center\, 30945 Five Rivers Blvd\, Spanish Fort\, AL 36527
UID:e.1304.20910
SEQUENCE:3
DTSTAMP:20260420T114553Z
URL:https://business.eschamber.com/events/details/animal-ambassadors-cruise-20910
END:VEVENT

END:VCALENDAR
