BEGIN:VCALENDAR
VERSION:2.0
PRODID:-//ChamberMaster//Event Calendar 2.0//EN
METHOD:PUBLISH
X-PUBLISHED-TTL:P3D
REFRESH-INTERVAL:P3D
CALSCALE:GREGORIAN
BEGIN:VEVENT
DTSTART:20230929T170000Z
DTEND:20230929T200000Z
X-MICROSOFT-CDO-ALLDAYEVENT:FALSE
SUMMARY:Anniversary/Open House - DaVine Counseling Center
DESCRIPTION:Anniversary/Open House - DaVine Counseling Center
X-ALT-DESC;FMTTYPE=text/html:Anniversary/Open House - DaVine Counseling Center
LOCATION:28851 N. Main St Suite B Daphne\, AL 36526
UID:e.1304.28080
SEQUENCE:3
DTSTAMP:20260420T020343Z
URL:https://business.eschamber.com/events/details/anniversary-open-house-davine-counseling-center-28080
END:VEVENT

END:VCALENDAR
