BEGIN:VCALENDAR
VERSION:2.0
PRODID:-//ChamberMaster//Event Calendar 2.0//EN
METHOD:PUBLISH
X-PUBLISHED-TTL:P3D
REFRESH-INTERVAL:P3D
CALSCALE:GREGORIAN
BEGIN:VEVENT
DTSTART:20210731T150000Z
DTEND:20210731T180000Z
X-MICROSOFT-CDO-ALLDAYEVENT:FALSE
SUMMARY:Annual Back to School with Red\, White & Blue!
DESCRIPTION:Fairhope Police Department and Fairhope Community Partners are happy to host their annual back to school summer party wherein they will help approximately 300 students get ready for school with many of the necessary supplies.  Free school supplies\, cook-out and water slides!\n\n- Students must be present and accompanied by guardian to receive free supplies. \n\n- Guardian must provide proof of Fairhope residency. \n\n- All Fairhope students are welcome to come and have fun--free supplies will be available for those who need them.
X-ALT-DESC;FMTTYPE=text/html:Fairhope Police Department and Fairhope Community Partners are happy to host their annual back to school summer party wherein they will help approximately 300 students get ready for school with many of the necessary supplies.&nbsp\; Free school supplies\, cook-out and water slides!<br />\n- Students must be present and accompanied by guardian to receive free supplies.&nbsp\;<br />\n-&nbsp\;Guardian must provide proof of Fairhope residency.&nbsp\;<br />\n-&nbsp\;All Fairhope students are welcome to come and have fun--free supplies will be available for those who need them.
LOCATION:Fairhope United Methodist Church Life Center\, 155 S. Section Street\, Fairhope\, AL
UID:e.1304.22048
SEQUENCE:3
DTSTAMP:20260420T131315Z
URL:https://business.eschamber.com/events/details/annual-back-to-school-with-red-white-blue-22048
END:VEVENT

END:VCALENDAR
