BEGIN:VCALENDAR
VERSION:2.0
PRODID:-//ChamberMaster//Event Calendar 2.0//EN
METHOD:PUBLISH
X-PUBLISHED-TTL:P3D
REFRESH-INTERVAL:P3D
CALSCALE:GREGORIAN
BEGIN:VEVENT
DTSTART:20191022T163000Z
DTEND:20191022T180000Z
X-MICROSOFT-CDO-ALLDAYEVENT:FALSE
SUMMARY:Annual Fashion Show & Luncheon
DESCRIPTION:Newcomers of the Eastern Shore is hosting their Annual Fashion Show and Luncheon featuring fashions from Bridals and Formals by Renee Lynn\, Joseph A. Bank\, The Cat's Meow\, The Colony Shop\, Cybele's\, M & F Casuals\, Stephanie's and Utopia. Make up by Sephora at JCPenney\, Hair Styling by JCPenney Salon. Lunch catered by The Gift Horse Restaurant.
X-ALT-DESC;FMTTYPE=text/html:Newcomers of the Eastern Shore is hosting their Annual Fashion Show and Luncheon featuring fashions from Bridals and Formals by Renee Lynn\, Joseph A. Bank\, The Cat&#39\;s Meow\, The Colony Shop\, Cybele&#39\;s\, M &amp\; F Casuals\, Stephanie&#39\;s and Utopia. Make up by Sephora at JCPenney\, Hair Styling by JCPenney Salon. Lunch catered by The Gift Horse Restaurant.
LOCATION:Fairhope Civic Center Fairhope\, AL
UID:e.1304.12909
SEQUENCE:3
DTSTAMP:20260419T155410Z
URL:https://business.eschamber.com/events/details/annual-fashion-show-luncheon-10-22-2019-12909
END:VEVENT

END:VCALENDAR
