BEGIN:VCALENDAR
VERSION:2.0
PRODID:-//ChamberMaster//Event Calendar 2.0//EN
METHOD:PUBLISH
X-PUBLISHED-TTL:P3D
REFRESH-INTERVAL:P3D
CALSCALE:GREGORIAN
BEGIN:VEVENT
DTSTART:20221113T200000Z
DTEND:20221113T230000Z
X-MICROSOFT-CDO-ALLDAYEVENT:FALSE
SUMMARY:ARC Vegan Chili Cook-off
DESCRIPTION:Enter your most delicious vegan chili (or just be a taster) for a chance to win bragging rights and some great prizes. If you prefer\, just come out and taste/judge some delicious chili while hanging out with great people.
X-ALT-DESC;FMTTYPE=text/html:Enter your most delicious vegan chili (or just be a taster) for a chance to win bragging rights and some great prizes. If you prefer\, just come out and taste/judge some delicious chili while hanging out with great people.
LOCATION:Braided River Brewing Company Mobile AL
UID:e.1304.26461
SEQUENCE:3
DTSTAMP:20260423T114258Z
URL:https://business.eschamber.com/events/details/arc-vegan-chili-cook-off-26461
END:VEVENT

END:VCALENDAR
