BEGIN:VCALENDAR
VERSION:2.0
PRODID:-//ChamberMaster//Event Calendar 2.0//EN
METHOD:PUBLISH
X-PUBLISHED-TTL:P3D
REFRESH-INTERVAL:P3D
CALSCALE:GREGORIAN
BEGIN:VEVENT
DTSTART:20210324T233000Z
DTEND:20210325T010000Z
X-MICROSOFT-CDO-ALLDAYEVENT:FALSE
SUMMARY:Audition for Romeo & Juliet
DESCRIPTION:The Playhouse in the Park will hold auditions for Romeo & Juliet on March 22 & 24\, 2021\, from 6:30 p.m. - 8:00 p.m. Those auditioning should be between the ages of 14 and 25 years old. Please come prepared to read from the script\, or to perform a short prepared Shakespearean monologue. The show will run at the Playhouse in May 2021.
X-ALT-DESC;FMTTYPE=text/html:The Playhouse in the Park will hold auditions for Romeo &amp\; Juliet on March 22 &amp\; 24\, 2021\, from 6:30 p.m. - 8:00 p.m. Those auditioning should be between the ages of 14 and 25 years old. Please come prepared to read from the script\, or to perform a short prepared Shakespearean monologue. The show will run at the Playhouse in May 2021.
LOCATION:Playhouse-in-the-Park\, 4851 Museum Drive\, Mobile\, AL
UID:e.1304.19463
SEQUENCE:3
DTSTAMP:20260423T204424Z
URL:https://business.eschamber.com/events/details/audition-for-romeo-juliet-19463
END:VEVENT

END:VCALENDAR
