BEGIN:VCALENDAR
VERSION:2.0
PRODID:-//ChamberMaster//Event Calendar 2.0//EN
METHOD:PUBLISH
X-PUBLISHED-TTL:P3D
REFRESH-INTERVAL:P3D
CALSCALE:GREGORIAN
BEGIN:VEVENT
DTSTART:20230913T160000Z
DTEND:20230913T170000Z
X-MICROSOFT-CDO-ALLDAYEVENT:FALSE
SUMMARY:Baldwin Bone & Joint Lunch and Learn
DESCRIPTION:September is National Pain Awareness Month\, a time to bring attention to the millions of Americans suffering from chronic pain. This annual event was first established in 2001 by the American Chronic Pain Association to educate people about the various types of pain and how to manage it. From physical therapy and mindfulness activities to medication and lifestyle changes\, there are many ways to help safely reduce pain levels and improve overall functioning. The public is invited to learn more by attending one of two complimentary lunch and learn events in Baldwin County featuring Dr. Elliott Pennington\, fellowship-trained pain management specialist with the Baldwin Bone & Joint orthopaedic team. Dr. Pennington will speak on\, "Understanding Chronic Pain   Offering Hope Through Relief and Management Tools."
X-ALT-DESC;FMTTYPE=text/html:September is National Pain Awareness Month\, a time to bring attention to the millions of Americans suffering from chronic pain. This annual event was first established in 2001 by the American Chronic Pain Association to educate people about the various types of pain and how to manage it. From physical therapy and mindfulness activities to medication and lifestyle changes\, there are many ways to help safely reduce pain levels and improve overall functioning. The public is invited to learn more by attending one of two complimentary lunch and learn events in Baldwin County featuring Dr. Elliott Pennington\, fellowship-trained pain management specialist with the Baldwin Bone &amp\; Joint orthopaedic team. Dr. Pennington will speak on\, &ldquo\;Understanding Chronic Pain &ndash\; Offering Hope Through Relief and Management Tools.&rdquo\;
LOCATION:Foley Senior Center 304 E Rose Ave Foley\, AL
UID:e.1304.28030
SEQUENCE:3
DTSTAMP:20260420T015737Z
URL:https://business.eschamber.com/events/details/baldwin-bone-joint-lunch-and-learn-28030
END:VEVENT

END:VCALENDAR
