BEGIN:VCALENDAR
VERSION:2.0
PRODID:-//ChamberMaster//Event Calendar 2.0//EN
METHOD:PUBLISH
X-PUBLISHED-TTL:P3D
REFRESH-INTERVAL:P3D
CALSCALE:GREGORIAN
BEGIN:VEVENT
DTSTART:20191107T230000Z
DTEND:20191108T023000Z
X-MICROSOFT-CDO-ALLDAYEVENT:FALSE
SUMMARY:Baldwin County Bicentennial Exhibition
DESCRIPTION:Presented by the Baldwin County Dept. of Archives & History\, and the Bicentennial Steering Committee\, the Bicentennial Exhibition will be held at the Daphne Civic Center. The opening ceremony will be held at 5:30 p.m. On display will be 3 epic paintings by Dean Mosher and Rick Reeves. Showings for the Baldwin County Heritage Families Documentaries are as follows: Part I - The First Settlers - 6:30 pm Part II - Colonies - 7:00 pm Part III - Like-Minded People - 7:30 pm Part IV - Immigrant Groups - 8:00 pm
X-ALT-DESC;FMTTYPE=text/html:Presented by the Baldwin County Dept. of Archives &amp\; History\, and the Bicentennial Steering Committee\, the Bicentennial Exhibition will be held at the Daphne Civic Center. The opening ceremony will be held at 5:30 p.m. On display will be 3 epic paintings by Dean Mosher and Rick Reeves. Showings for the Baldwin County Heritage Families Documentaries are as follows: Part I - The First Settlers - 6:30 pm Part II - Colonies - 7:00 pm Part III - Like-Minded People - 7:30 pm Part IV - Immigrant Groups - 8:00 pm
LOCATION:Daphne Civic Center US Hwy 98 Daphne\, AL
UID:e.1304.13109
SEQUENCE:3
DTSTAMP:20260419T154903Z
URL:https://business.eschamber.com/events/details/baldwin-county-bicentennial-exhibition-13109
END:VEVENT

END:VCALENDAR
