BEGIN:VCALENDAR
VERSION:2.0
PRODID:-//ChamberMaster//Event Calendar 2.0//EN
METHOD:PUBLISH
X-PUBLISHED-TTL:P3D
REFRESH-INTERVAL:P3D
CALSCALE:GREGORIAN
BEGIN:VEVENT
DTSTART:20201208T230000Z
DTEND:20201209T010000Z
X-MICROSOFT-CDO-ALLDAYEVENT:FALSE
SUMMARY:Baldwin County Taxpayer Workshop
DESCRIPTION:The Baldwin County Sales & Use Tax/License Inspection Department holds a quarterly taxpayer workshop for new and existing businesses. There is no fee to attend and advanced registration is not required.
X-ALT-DESC;FMTTYPE=text/html:The Baldwin County Sales &amp\; Use Tax/License Inspection Department holds a quarterly taxpayer workshop for new and existing businesses. There is no fee to attend and advanced registration is not required.
LOCATION:Baldwin County Central Annex Auditorium\, 22251 Palmer Street\, Robertsdale\, AL 36567
UID:e.1304.13465
SEQUENCE:3
DTSTAMP:20260424T014815Z
URL:https://business.eschamber.com/events/details/baldwin-county-taxpayer-workshop-12-08-2020-13465
END:VEVENT

END:VCALENDAR
