BEGIN:VCALENDAR
VERSION:2.0
PRODID:-//ChamberMaster//Event Calendar 2.0//EN
METHOD:PUBLISH
X-PUBLISHED-TTL:P3D
REFRESH-INTERVAL:P3D
CALSCALE:GREGORIAN
BEGIN:VEVENT
DTSTART:20211204T010000Z
DTEND:20211204T020000Z
X-MICROSOFT-CDO-ALLDAYEVENT:FALSE
SUMMARY:Baldwin Pops Christmas Concert
DESCRIPTION:Come listen to the Baldwin Pops perform their Christmas Concert.
X-ALT-DESC;FMTTYPE=text/html:Come listen to the Baldwin Pops perform their Christmas Concert.
LOCATION:Daphne Civic Center\, 2603 US Hwy 98\, Daphne\, AL
UID:e.1304.22669
SEQUENCE:3
DTSTAMP:20260419T120924Z
URL:https://business.eschamber.com/events/details/baldwin-pops-christmas-concert-12-03-2021-22669
END:VEVENT

END:VCALENDAR
