BEGIN:VCALENDAR
VERSION:2.0
PRODID:-//ChamberMaster//Event Calendar 2.0//EN
METHOD:PUBLISH
X-PUBLISHED-TTL:P3D
REFRESH-INTERVAL:P3D
CALSCALE:GREGORIAN
BEGIN:VEVENT
DTSTART:20210213T180000Z
DTEND:20210213T200000Z
X-MICROSOFT-CDO-ALLDAYEVENT:FALSE
SUMMARY:Ball Gown Throw Down
DESCRIPTION:Grab your mask and a sense of humor and come out for a good cause: Two socially-distanced Mardi Gras brass band "Happenings" will take place on February 13th & 16th\, 2021 in downtown Fairhope. The "Ball Gown Throw Down" is an opportunity for businesses and patrons to enjoy some uplifting sounds of the season while walking\, shopping\, eating at a distance and benefiting charity. Men and women alike are encouraged to stay socially-distant while visually showing their support for neighbors helping neighbors by wearing Mardi Gras ball gowns and comfortable shoes. Tips collected will help support Ecumenical Ministries. The Mobile Brass Band Society will be playing on Saturday from 12-2 PM\, and the Excelsior Band will play on Fat Tuesday\, from 6-8 PM. If you would like to show your support for the cause without attending in person\, post photos of yourself in your gown with the hashtag #ballgownthrowdown2021 and you can donate online at https://www.baldwinemi.org/donate (please put "Ball Gown Throw Down" where it says "Special Instructions").\n\nEvents sponsored in part by: Cactus Cantina\, Dragonfly Foodbar\, Dr. Music\, Fairhope Hemp\, McSharry's Irish Pub\, Panini Pete's\, Tamara's Downtown\, The Bone & Barrel\, The Fairhope Store\, The Happy Olive\, The Mill\, Fairhope Tongue & Groove Drinkery Salon\, GLS Garilynn Gillespie. \n\nLocation: Downton Fairhope\n\nOrganized by: "Let's Go Fairhope" / EdVenture Local\, LLC\n\nContact: Darby Ulery (251) 234-1904 / LetsGoFairhope@gmail.com
X-ALT-DESC;FMTTYPE=text/html:Grab your mask and a sense of humor and come out for a good cause: Two socially-distanced Mardi Gras brass band &ldquo\;Happenings&rdquo\; will take place on February 13th &amp\; 16th\, 2021 in downtown Fairhope. The &ldquo\;Ball Gown Throw Down&rdquo\; is an opportunity for businesses and patrons to enjoy some uplifting sounds of the season while walking\, shopping\, eating at a distance and benefiting charity. Men and women alike are encouraged to stay socially-distant while visually showing their support for neighbors helping neighbors by wearing Mardi Gras ball gowns and comfortable shoes. Tips collected will help support Ecumenical Ministries. The Mobile Brass Band Society will be playing on Saturday from 12-2 PM\, and the Excelsior Band will play on Fat Tuesday\, from 6-8 PM. If you would like to show your support for the cause without attending in person\, post photos of yourself in your gown with the hashtag #ballgownthrowdown2021 and you can donate online at https://www.baldwinemi.org/donate (please put &ldquo\;Ball Gown Throw Down&rdquo\; where it says &ldquo\;Special Instructions&rdquo\;).<br />\nEvents sponsored in part by: Cactus Cantina\, Dragonfly Foodbar\, Dr. Music\, Fairhope Hemp\, McSharry&rsquo\;s Irish Pub\, Panini Pete&rsquo\;s\, Tamara&rsquo\;s Downtown\, The Bone &amp\; Barrel\, The Fairhope Store\, The Happy Olive\, The Mill\, Fairhope Tongue &amp\; Groove Drinkery Salon\, GLS Garilynn Gillespie.&nbsp\;<br />\nLocation: Downton Fairhope<br />\nOrganized by: &quot\;Let&#39\;s Go Fairhope&quot\; / EdVenture Local\, LLC<br />\nContact: Darby Ulery (251) 234-1904 / LetsGoFairhope@gmail.com
LOCATION:Downtown Fairhope
UID:e.1304.19353
SEQUENCE:3
DTSTAMP:20260424T000525Z
URL:https://business.eschamber.com/events/details/ball-gown-throw-down-19353
END:VEVENT

END:VCALENDAR
