BEGIN:VCALENDAR
VERSION:2.0
PRODID:-//ChamberMaster//Event Calendar 2.0//EN
METHOD:PUBLISH
X-PUBLISHED-TTL:P3D
REFRESH-INTERVAL:P3D
CALSCALE:GREGORIAN
BEGIN:VEVENT
DTSTART:20191030T223000Z
DTEND:20191031T003000Z
X-MICROSOFT-CDO-ALLDAYEVENT:FALSE
SUMMARY:Barnwell Baptist Fall Festival
DESCRIPTION:Join us at Barnwell Baptist on Oct 30th for an evening of food\, fellowship and fun. We will have games\, a hayride and plenty of great food. There is something for everyone and it begins at 5:30pm.
X-ALT-DESC;FMTTYPE=text/html:Join us at Barnwell Baptist on Oct 30th for an evening of food\, fellowship and fun. We will have games\, a hayride and plenty of great food. There is something for everyone and it begins at 5:30pm.
LOCATION:Barnwell Baptist 7920 US-98 ALT Fairhope\, AL 36532
UID:e.1304.13057
SEQUENCE:3
DTSTAMP:20260419T155000Z
URL:https://business.eschamber.com/events/details/barnwell-baptist-fall-festival-13057
END:VEVENT

END:VCALENDAR
