BEGIN:VCALENDAR
VERSION:2.0
PRODID:-//ChamberMaster//Event Calendar 2.0//EN
METHOD:PUBLISH
X-PUBLISHED-TTL:P3D
REFRESH-INTERVAL:P3D
CALSCALE:GREGORIAN
BEGIN:VEVENT
DTSTART:20191003T220000Z
DTEND:20191004T000000Z
X-MICROSOFT-CDO-ALLDAYEVENT:FALSE
SUMMARY:Sip\, Stretch or Stroll: Yoga on the Great Lawn
DESCRIPTION:Bellingrath Gardens and Home presents "Sip\, Stretch or Stroll\," a relaxing evening in the Gardens on Thursday\, October 3. Guests are invited to explore the Gardens after hours and take part in a yoga session on the Great Lawn. The event will include complimentary drinks and snacks. The yoga session\, from 5:15 to 6:15 p.m.\, will be led by Mary Sergeant\, a Fairhope resident who completed her 200 hours of Registered Yoga Teacher Training at Glow Yoga in Mobile. Admission to the "Sip\, Stretch or Stroll" is $14\, which includes the yoga session and admission to the Gardens. Guests are asked to wear comfortable clothing and to bring a yoga mat and a towel. After the workout\, guests are encouraged to explore the Gardens and enjoy the fall colors. For details\, please visit bellingrath.org.
X-ALT-DESC;FMTTYPE=text/html:<span style="font-family:calibri\,sans-serif"><span style="font-size:11.0pt">Bellingrath Gardens and Home presents &ldquo\;Sip\, Stretch or Stroll\,&rdquo\; a relaxing evening in the Gardens on Thursday\, October 3. Guests are invited to explore the Gardens after hours and take part in a yoga session on the Great Lawn. The event will include complimentary drinks and snacks. The yoga session\, from 5:15 to 6:15 p.m.\, will be led by Mary Sergeant\, a Fairhope resident who completed her 200 hours of Registered Yoga Teacher Training at Glow Yoga in Mobile. <span style="color:#212121">Admission to </span>the &ldquo\;Sip\, Stretch or Stroll&rdquo\; is $14\, which includes the yoga session and admission to the Gardens. Guests are asked to wear comfortable clothing and to bring a yoga mat and a towel. After the workout\, guests are encouraged to explore the Gardens and enjoy the fall colors. For details\, please visit <a href="http://bellingrath.org">bellingrath.org</a>.</span></span><br />\n&nbsp\;
LOCATION:Bellingrath Gardens and Home\, 12401 Bellingrath Gardens Road\, Theodore\, AL 36582
UID:e.1304.2183
SEQUENCE:3
DTSTAMP:20260419T155409Z
URL:https://business.eschamber.com/events/details/barre3-in-the-gardens-a-fall-workout-series-at-bellingrath-gardens-and-home-2183
END:VEVENT

END:VCALENDAR
