BEGIN:VCALENDAR
VERSION:2.0
PRODID:-//ChamberMaster//Event Calendar 2.0//EN
METHOD:PUBLISH
X-PUBLISHED-TTL:P3D
REFRESH-INTERVAL:P3D
CALSCALE:GREGORIAN
BEGIN:VEVENT
DTSTART:20201115T213000Z
DTEND:20201115T223000Z
X-MICROSOFT-CDO-ALLDAYEVENT:FALSE
SUMMARY:Beethoven & Blue Jeans
DESCRIPTION:We will celebrate Beethoven's 250th birthday with our ever-popular Beethoven & Blue Jeans casual concert. We'll feature 22-year-old virtuoso Randall Goosby performing Beethoven's violin concerto. While respecting the most current guidelines\, we are creating safe\, socially-distanced musical experiences for all to enjoy. We will allow 400 people in the 1\,900-seat Saenger. Seats and rows will be blocked to accommodate social distancing. Masks are required for audience and musicians. Concerts are limited to approximately 1 hour without an intermission.
X-ALT-DESC;FMTTYPE=text/html:We will celebrate Beethoven&#39\;s 250th birthday with our ever-popular Beethoven &amp\; Blue Jeans casual concert. We&#39\;ll feature 22-year-old virtuoso Randall Goosby performing Beethoven&#39\;s violin concerto. While respecting the most current guidelines\, we are creating safe\, socially-distanced musical experiences for all to enjoy. We will allow 400 people in the 1\,900-seat Saenger. Seats and rows will be blocked to accommodate social distancing. Masks are required for audience and musicians. Concerts are limited to approximately 1 hour without an intermission.
LOCATION:Saenger Theatre\, 6 S. Joachim Street\, Mobile\, AL
UID:e.1304.14378
SEQUENCE:3
DTSTAMP:20260424T043412Z
URL:https://business.eschamber.com/events/details/beethoven-blue-jeans-11-15-2020-14378
END:VEVENT

END:VCALENDAR
