BEGIN:VCALENDAR
VERSION:2.0
PRODID:-//ChamberMaster//Event Calendar 2.0//EN
METHOD:PUBLISH
X-PUBLISHED-TTL:P3D
REFRESH-INTERVAL:P3D
CALSCALE:GREGORIAN
BEGIN:VEVENT
DTSTART:20191124T203000Z
DTEND:20191124T230000Z
X-MICROSOFT-CDO-ALLDAYEVENT:FALSE
SUMMARY:Beethoven & Blue Jeans
DESCRIPTION:The Mobile Symphony Orchestra will dress in blue jeans and t-shirts to perform some of classical music's biggest hits for its annual casual concert\, Beethoven & Blue Jeans. This dynamic program encourages music lovers to "dress down and leave uplifted." Beethoven's Symphony No. 3\, "Erotica"\, headlines the concert\, which opens with a world premiere by popular contemporary composer Austin Wintory\, Acclaimed young violinist Paul Huang performs Samuel Barber's Violin Concerto. More details can be found online at www.mobile symphony.org. The concert is sponsored by Wind Creek Casino & Hotel\, Metcalfe Charitable Foundation\, and Lowell and Bobette Friedman.
X-ALT-DESC;FMTTYPE=text/html:The Mobile Symphony Orchestra will dress in blue jeans and t-shirts to perform some of classical music&#39\;s biggest hits for its annual casual concert\, Beethoven &amp\; Blue Jeans. This dynamic program encourages music lovers to &quot\;dress down and leave uplifted.&quot\; Beethoven&#39\;s Symphony No. 3\, &quot\;Erotica&quot\;\, headlines the concert\, which opens with a world premiere by popular contemporary composer Austin Wintory\, Acclaimed young violinist Paul Huang performs Samuel Barber&#39\;s Violin Concerto. More details can be found online at www.mobile symphony.org. The concert is sponsored by Wind Creek Casino &amp\; Hotel\, Metcalfe Charitable Foundation\, and Lowell and Bobette Friedman.
LOCATION:Saenger Theatre 6 S. Joachim Street\, Mobile\, AL
UID:e.1304.13121
SEQUENCE:3
DTSTAMP:20260419T141941Z
URL:https://business.eschamber.com/events/details/beethoven-blue-jeans-11-24-2019-13121
END:VEVENT

END:VCALENDAR
