BEGIN:VCALENDAR
VERSION:2.0
PRODID:-//ChamberMaster//Event Calendar 2.0//EN
METHOD:PUBLISH
X-PUBLISHED-TTL:P3D
REFRESH-INTERVAL:P3D
CALSCALE:GREGORIAN
BEGIN:VEVENT
DTSTART:20180221T153000Z
DTEND:20180221T173000Z
X-MICROSOFT-CDO-ALLDAYEVENT:FALSE
SUMMARY:Beginning French Class at The University of South Alabama Baldwin County's Campus
DESCRIPTION:Parlez vous Francais? Take this course and you will be able to say "oui". French is frequently called the most romantic language in the world\, and is spoken in many countries\, including Canada.\n\nThe Beginning French class addresses elements of the French culture\, and participants will learn basic French words and phrases.
X-ALT-DESC;FMTTYPE=text/html:<p>Parlez vous Francais? Take this course and you will be able to say &quot\;oui&quot\;. French is frequently called the most romantic language in the world\, and is spoken in many countries\, including Canada.</p>\n\n<p>The&nbsp\;Beginning French<strong>&nbsp\;</strong>class addresses elements of the French culture\, and participants will learn basic French words and phrases.</p>\n
LOCATION:University of South Alabama Baldwin County Campus 110 St. James Avenue Fairhope\, AL 36532
UID:e.1304.8662
SEQUENCE:3
DTSTAMP:20260423T233835Z
URL:https://business.eschamber.com/events/details/beginning-french-class-at-the-university-of-south-alabama-baldwin-county-s-campus-02-21-2018-8662
END:VEVENT

END:VCALENDAR
