BEGIN:VCALENDAR
VERSION:2.0
PRODID:-//ChamberMaster//Event Calendar 2.0//EN
METHOD:PUBLISH
X-PUBLISHED-TTL:P3D
REFRESH-INTERVAL:P3D
CALSCALE:GREGORIAN
BEGIN:VEVENT
DTSTART:20210306T180000Z
DTEND:20210307T000000Z
X-MICROSOFT-CDO-ALLDAYEVENT:FALSE
SUMMARY:Bellingrath's Beers & Blooms
DESCRIPTION:Who's ready for some springtime fun? Join us for Bellingrath's Beers & Blooms\, an all-day craft beer festival and concert series on the Great Lawn at the heart of the Gardens. Our guests will hear great music from local bands\, and will enjoy the chance to sample a wide variety of craft brews\, shop with local vendors at their booths\, and feast with a selection of food trucks\, all in the beautiful surroundings of the springtime Gardens.\n\nIn order to ensure social distancing\, tickets are limited. All ages are welcome\, but everyone must have a ticket for admission.
X-ALT-DESC;FMTTYPE=text/html:<span style="color:rgb(97\, 97\, 97)\; font-family:open sans\,sans-serif\; font-size:14px">Who&rsquo\;s ready for some springtime fun? Join us for Bellingrath&rsquo\;s Beers &amp\; Blooms\, an all-day craft beer festival and concert series on the Great Lawn at the heart of the Gardens. Our guests will hear great music from local bands\, and will enjoy the chance to sample a wide variety of craft brews\, shop with local vendors at their booths\, and feast with a selection of food trucks\, all in the beautiful surroundings of the springtime Gardens.</span><br />\n<span style="color:rgb(97\, 97\, 97)\; font-family:open sans\,sans-serif\; font-size:14px">In order to ensure social distancing\, tickets are limited. All ages are welcome\, but everyone must have a ticket for admission.</span>
LOCATION:Bellingrath Gardens and Home\, 12401 Bellingrath Gardens Road\, Theodore\, AL 36582
UID:e.1304.19456
SEQUENCE:3
DTSTAMP:20260423T204505Z
URL:https://business.eschamber.com/events/details/bellingrath-s-beers-blooms-19456
END:VEVENT

END:VCALENDAR
