BEGIN:VCALENDAR
VERSION:2.0
PRODID:-//ChamberMaster//Event Calendar 2.0//EN
METHOD:PUBLISH
X-PUBLISHED-TTL:P3D
REFRESH-INTERVAL:P3D
CALSCALE:GREGORIAN
BEGIN:VEVENT
DTSTART:20240721T003000Z
DTEND:20240721T023000Z
X-MICROSOFT-CDO-ALLDAYEVENT:FALSE
SUMMARY:Beyonce Experience — A Tribute to Beyonce
DESCRIPTION:Head to OWA Theater July 20th to witness the Beyonce Experience\, a tribute to the Queen Bee herself! This electrifying tribute showcases some of Beyonce's greatest hits such as\, "Single Ladies\," "Formation\," "Crazy in Love\," and songs from her newly released Cowboy Carter album. This concert is sure to have you singing and dancing out of your seat from its riveting choreography and sensational dancers to the amazing sounds of the live band!\n\n\n\nDoors open at 6pm! Arrive early to grab drinks and refreshments!\n\n\n\nGrab tickets here before they sell out! Tickets here: LINK
X-ALT-DESC;FMTTYPE=text/html:Head to OWA Theater July 20th to witness the Beyonce Experience\, a tribute to the Queen Bee herself! This electrifying tribute showcases some of Beyonce&rsquo\;s greatest hits such as\, &ldquo\;Single Ladies\,&rdquo\; &ldquo\;Formation\,&rdquo\; &ldquo\;Crazy in Love\,&rdquo\; and songs from her newly released Cowboy Carter album. This concert is sure to have you singing and dancing out of your seat from its riveting choreography and sensational dancers to the amazing sounds of the live band!<br />\n<br />\nDoors open at 6pm! Arrive early to grab drinks and refreshments!<br />\n<br />\nGrab tickets here before they sell out! Tickets here: LINK
LOCATION:Location: OWA Theater
UID:e.1304.31398
SEQUENCE:3
DTSTAMP:20260419T191009Z
URL:https://business.eschamber.com/events/details/beyonce-experience-a-tribute-to-beyonce-31398
END:VEVENT

END:VCALENDAR
